BEGIN:VCALENDAR
VERSION:2.0
PRODID:SchoolNow
CALSCALE:GREGORIAN
BEGIN:VEVENT
UID:69f81298-13e8-11f0-ad75-0affd643f14d
DTSTAMP:20251216T154634Z
SUMMARY:Varsity Girls Volleyball vs Lisle AWAY 5207 Center Ave
LOCATION:Lisle Junior High School\, 5207 Center Ave\, Lisle\, IL 60532\, US
 A
URL;VALUE=URI:https://www.cusd201.org/wjhs/calendar/7873844/varsity-girls-v
 olleyball-vs-lisle-away-5207-center-ave
DTSTART:20260212T221500Z
DTEND:20260212T231500Z
END:VEVENT
END:VCALENDAR
