BEGIN:VCALENDAR
VERSION:2.0
PRODID:SchoolNow
CALSCALE:GREGORIAN
BEGIN:VEVENT
UID:69f8137e-13e8-11f0-b3de-0affd643f14d
DTSTAMP:20251216T154633Z
SUMMARY:JV Girls Volleyball vs Lisle AWAY 5207 Center Ave
LOCATION:Lisle Junior High School\, 5207 Center Ave\, Lisle\, IL 60532\, US
 A
URL;VALUE=URI:https://www.cusd201.org/wjhs/calendar/7873845/jv-girls-volley
 ball-vs-lisle-away-5207-center-ave
DTSTART:20260212T231500Z
DTEND:20260213T001500Z
END:VEVENT
END:VCALENDAR
