BEGIN:VCALENDAR
VERSION:2.0
PRODID:SchoolNow
CALSCALE:GREGORIAN
BEGIN:VEVENT
UID:69f81464-13e8-11f0-bb29-0affd643f14d
DTSTAMP:20251216T154634Z
SUMMARY:Varsity Girls Volleyball vs Old Quarry AWAY 16100 W 127th St\, Lemo
 nt
LOCATION:Old Quarry Middle School\, 16100 W 127th St\, Lemont\, IL 60439\, 
 USA
URL;VALUE=URI:https://www.cusd201.org/wjhs/calendar/7873846/varsity-girls-v
 olleyball-vs-old-quarry-away-16100-w-127th-st-lemont
DTSTART:20260219T221500Z
DTEND:20260219T231500Z
END:VEVENT
END:VCALENDAR
