BEGIN:VCALENDAR
VERSION:2.0
PRODID:SchoolNow
CALSCALE:GREGORIAN
BEGIN:VEVENT
UID:69f8155e-13e8-11f0-82f4-0affd643f14d
DTSTAMP:20251216T154633Z
SUMMARY:JV Girls Volleyball vs Old Quarry AWAY 16100 W 127th St\, Lemont
LOCATION:Old Quarry Middle School\, 16100 W 127th St\, Lemont\, IL 60439\, 
 USA
URL;VALUE=URI:https://www.cusd201.org/wjhs/calendar/7873847/jv-girls-volley
 ball-vs-old-quarry-away-16100-w-127th-st-lemont
DTSTART:20260219T231500Z
DTEND:20260220T001500Z
END:VEVENT
END:VCALENDAR
