BEGIN:VCALENDAR
VERSION:2.0
PRODID:SchoolNow
CALSCALE:GREGORIAN
BEGIN:VEVENT
UID:69f816d0-13e8-11f0-bcd4-0affd643f14d
DTSTAMP:20251216T154633Z
SUMMARY:JV Girls Volleyball vs O'Neill AWAY 635 59th St\, Downers Grove
LOCATION:O'Neill Middle School\, 635 59th St\, Downers Grove\, IL 60516\, U
 SA
URL;VALUE=URI:https://www.cusd201.org/wjhs/calendar/7873848/jv-girls-volley
 ball-vs-oneill-away-635-59th-st-downers-grove
DTSTART:20260223T221500Z
DTEND:20260223T231500Z
END:VEVENT
END:VCALENDAR
