BEGIN:VCALENDAR
VERSION:2.0
PRODID:SchoolNow
CALSCALE:GREGORIAN
BEGIN:VEVENT
UID:69f81b30-13e8-11f0-88e4-0affd643f14d
DTSTAMP:20251216T154634Z
SUMMARY:Varsity Girls Volleyball vs O'Neill AWAY 635 59th St\, Downers Grov
 e
LOCATION:O'Neill Middle School\, 635 59th St\, Downers Grove\, IL 60516\, U
 SA
URL;VALUE=URI:https://www.cusd201.org/wjhs/calendar/7873849/varsity-girls-v
 olleyball-vs-oneill-away-635-59th-st-downers-grove
DTSTART:20260223T231500Z
DTEND:20260224T001500Z
END:VEVENT
END:VCALENDAR
