BEGIN:VCALENDAR
VERSION:2.0
PRODID:SchoolNow
CALSCALE:GREGORIAN
BEGIN:VEVENT
UID:69f81c48-13e8-11f0-9572-0affd643f14d
DTSTAMP:20251216T154634Z
SUMMARY:Varsity Girls Volleyball vs Lakeview AWAY 701 Plainfield Rd\, Downe
 rs Grove
LOCATION:Lakeview Junior High School\, 701 Plainfield Rd\, Downers Grove\, 
 IL 60516\, USA
URL;VALUE=URI:https://www.cusd201.org/wjhs/calendar/7873850/varsity-girls-v
 olleyball-vs-lakeview-away-701-plainfield-rd-downers-grove
DTSTART:20260302T231500Z
DTEND:20260303T001500Z
END:VEVENT
END:VCALENDAR
