BEGIN:VCALENDAR
VERSION:2.0
PRODID:SchoolNow
CALSCALE:GREGORIAN
BEGIN:VEVENT
UID:69f81f0e-13e8-11f0-a0e5-0affd643f14d
DTSTAMP:20251216T154633Z
SUMMARY:Varsity Girls Volleyball vs Eisenhower AWAY 1410 75th St\, Darien
LOCATION:Eisenhower Junior High School\, 1410 75th St\, Darien\, IL 60561\,
  USA
URL;VALUE=URI:https://www.cusd201.org/wjhs/calendar/7873853/varsity-girls-v
 olleyball-vs-eisenhower-away-1410-75th-st-darien
DTSTART:20260303T231500Z
DTEND:20260304T001500Z
END:VEVENT
END:VCALENDAR
