BEGIN:VCALENDAR
VERSION:2.0
PRODID:SchoolNow
CALSCALE:GREGORIAN
BEGIN:VEVENT
UID:69f81fea-13e8-11f0-8e6f-0affd643f14d
DTSTAMP:20251216T154634Z
SUMMARY:JV Girls Volleyball vs Butler HOME
LOCATION:WJHS-1-Gym (500)
URL;VALUE=URI:https://www.cusd201.org/wjhs/calendar/7873854/jv-girls-volley
 ball-vs-butler-home
DTSTART:20260305T221500Z
DTEND:20260305T231500Z
END:VEVENT
END:VCALENDAR
