BEGIN:VCALENDAR
VERSION:2.0
PRODID:SchoolNow
CALSCALE:GREGORIAN
BEGIN:VEVENT
UID:69f820c6-13e8-11f0-9749-0affd643f14d
DTSTAMP:20251216T154634Z
SUMMARY:Varsity Girls Volleyball vs Butler HOME
LOCATION:WJHS-1-Gym (500)
URL;VALUE=URI:https://www.cusd201.org/wjhs/calendar/7873855/varsity-girls-v
 olleyball-vs-butler-home
DTSTART:20260305T231500Z
DTEND:20260306T001500Z
END:VEVENT
END:VCALENDAR
