BEGIN:VCALENDAR
VERSION:2.0
PRODID:SchoolNow
CALSCALE:GREGORIAN
BEGIN:VEVENT
UID:69f821ac-13e8-11f0-b076-0affd643f14d
DTSTAMP:20251216T154635Z
SUMMARY:JV Girls Volleyball vs Burr Ridge HOME
LOCATION:WJHS-1-Gym (500)
URL;VALUE=URI:https://www.cusd201.org/wjhs/calendar/7873856/jv-girls-volley
 ball-vs-burr-ridge-home
DTSTART:20260310T211500Z
DTEND:20260310T221500Z
END:VEVENT
END:VCALENDAR
