BEGIN:VCALENDAR
VERSION:2.0
PRODID:SchoolNow
CALSCALE:GREGORIAN
BEGIN:VEVENT
UID:69f82288-13e8-11f0-9105-0affd643f14d
DTSTAMP:20251216T154633Z
SUMMARY:Varsity Girls Volleyball vs Burr Ridge HOME
LOCATION:WJHS-1-Gym (500)
URL;VALUE=URI:https://www.cusd201.org/wjhs/calendar/7873857/varsity-girls-v
 olleyball-vs-burr-ridge-home
DTSTART:20260310T221500Z
DTEND:20260310T231500Z
END:VEVENT
END:VCALENDAR
