BEGIN:VCALENDAR
VERSION:2.0
PRODID:SchoolNow
CALSCALE:GREGORIAN
BEGIN:VEVENT
UID:69f8236e-13e8-11f0-9cbe-0affd643f14d
DTSTAMP:20251216T154633Z
SUMMARY:JV Girls Volleyball vs Cass HOME
LOCATION:WJHS-1-Gym (500)
URL;VALUE=URI:https://www.cusd201.org/wjhs/calendar/7873858/jv-girls-volley
 ball-vs-cass-home
DTSTART:20260312T211500Z
DTEND:20260312T221500Z
END:VEVENT
END:VCALENDAR
