BEGIN:VCALENDAR
VERSION:2.0
PRODID:SchoolNow
CALSCALE:GREGORIAN
BEGIN:VEVENT
UID:69f8244a-13e8-11f0-87e0-0affd643f14d
DTSTAMP:20251216T154633Z
SUMMARY:Varsity Girls Volleyball vs Cass HOME
LOCATION:WJHS-1-Gym (500)
URL;VALUE=URI:https://www.cusd201.org/wjhs/calendar/7873859/varsity-girls-v
 olleyball-vs-cass-home
DTSTART:20260312T221500Z
DTEND:20260312T231500Z
END:VEVENT
END:VCALENDAR
