BEGIN:VCALENDAR
VERSION:2.0
PRODID:SchoolNow
CALSCALE:GREGORIAN
BEGIN:VEVENT
UID:69f82526-13e8-11f0-ada9-0affd643f14d
DTSTAMP:20251216T154633Z
SUMMARY:Varsity Girls Volleyball SDEAA Tournament TBD
URL;VALUE=URI:https://www.cusd201.org/wjhs/calendar/7873860/varsity-girls-v
 olleyball-sdeaa-tournament-tbd
DTSTART:20260313T211500Z
DTEND:20260313T221500Z
END:VEVENT
END:VCALENDAR
