BEGIN:VCALENDAR
VERSION:2.0
PRODID:SchoolNow
CALSCALE:GREGORIAN
BEGIN:VEVENT
UID:3403c05a-1619-11f0-b3eb-0a58a9feac02
DTSTAMP:20251216T154634Z
SUMMARY:Boys Soccer vs Westview Hills AWAY 630 W 65th St\, Willowbrook
LOCATION:Westview Hills Middle School\, 630 W 65th St\, Willowbrook\, IL 60
 527\, USA
URL;VALUE=URI:https://www.cusd201.org/wjhs/calendar/7895096/boys-soccer-vs-
 westview-hills-away-630-w-65th-st-willowbrook
DTSTART:20260409T211500Z
DTEND:20260409T221500Z
END:VEVENT
END:VCALENDAR
