BEGIN:VCALENDAR
VERSION:2.0
PRODID:SchoolNow
CALSCALE:GREGORIAN
BEGIN:VEVENT
UID:3403c26c-1619-11f0-9657-0a58a9feac02
DTSTAMP:20251216T154634Z
SUMMARY:Boys Soccer vs Lakeview AWAY 701 Plainfield Rd Downers Grove
LOCATION:Lakeview Junior High School\, 701 Plainfield Rd\, Downers Grove\, 
 IL 60516\, USA
URL;VALUE=URI:https://www.cusd201.org/wjhs/calendar/7895098/boys-soccer-vs-
 lakeview-away-701-plainfield-rd-downers-grove
DTSTART:20260414T211500Z
DTEND:20260414T221500Z
END:VEVENT
END:VCALENDAR
