BEGIN:VCALENDAR
VERSION:2.0
PRODID:SchoolNow
CALSCALE:GREGORIAN
BEGIN:VEVENT
UID:3403c456-1619-11f0-afdf-0a58a9feac02
DTSTAMP:20251216T154634Z
SUMMARY:Boys Soccer vs Eisenhower HOME 909 Oakwood Drive
LOCATION:Westmont High School\, 909 Oakwood Dr\, Westmont\, IL 60559\, USA
URL;VALUE=URI:https://www.cusd201.org/wjhs/calendar/7895100/boys-soccer-vs-
 eisenhower-home-909-oakwood-drive
DTSTART:20260421T211500Z
DTEND:20260421T221500Z
END:VEVENT
END:VCALENDAR
