BEGIN:VCALENDAR
VERSION:2.0
PRODID:SchoolNow
CALSCALE:GREGORIAN
BEGIN:VEVENT
UID:3403c636-1619-11f0-81e6-0a58a9feac02
DTSTAMP:20251216T154634Z
SUMMARY:Girls Soccer vs O'Neill AWAY 635 59th St\, Downers Grove
LOCATION:O'Neill Middle School\, 635 59th St\, Downers Grove\, IL 60516\, U
 SA
URL;VALUE=URI:https://www.cusd201.org/wjhs/calendar/7895102/girls-soccer-vs
 -oneill-away-635-59th-st-downers-grove
DTSTART:20260423T211500Z
DTEND:20260423T221500Z
END:VEVENT
END:VCALENDAR
