BEGIN:VCALENDAR
VERSION:2.0
PRODID:SchoolNow
CALSCALE:GREGORIAN
BEGIN:VEVENT
UID:3403c726-1619-11f0-9e48-0a58a9feac02
DTSTAMP:20251216T154634Z
SUMMARY:Boys Soccer vs O'Neill AWAY 635 59th St\, Downers Grove
LOCATION:O'Neill Middle School\, 635 59th St\, Downers Grove\, IL 60516\, U
 SA
URL;VALUE=URI:https://www.cusd201.org/wjhs/calendar/7895103/boys-soccer-vs-
 oneill-away-635-59th-st-downers-grove
DTSTART:20260423T221500Z
DTEND:20260423T231500Z
END:VEVENT
END:VCALENDAR
