BEGIN:VCALENDAR
VERSION:2.0
PRODID:SchoolNow
CALSCALE:GREGORIAN
BEGIN:VEVENT
UID:3403c97e-1619-11f0-ad8a-0a58a9feac02
DTSTAMP:20251216T154635Z
SUMMARY:Boys Soccer vs Jefferson AWAY 7200 Janes Ave Woodridge
LOCATION:Thomas Jefferson Junior High School\, 7200 Janes Ave\, Woodridge\,
  IL 60517\, USA
URL;VALUE=URI:https://www.cusd201.org/wjhs/calendar/7895105/boys-soccer-vs-
 jefferson-away-7200-janes-ave-woodridge
DTSTART:20260427T221500Z
DTEND:20260427T231500Z
END:VEVENT
END:VCALENDAR
