BEGIN:VCALENDAR
VERSION:2.0
PRODID:SchoolNow
CALSCALE:GREGORIAN
BEGIN:VEVENT
UID:3403d11c-1619-11f0-bfe0-0a58a9feac02
DTSTAMP:20251216T154634Z
SUMMARY:Boys Soccer vs Cass AWAY 8502 Bailey Rd\, Darien
LOCATION:Cass Junior High School\, 8502 Bailey Rd\, Darien\, IL 60561\, USA
URL;VALUE=URI:https://www.cusd201.org/wjhs/calendar/7895107/boys-soccer-vs-
 cass-away-8502-bailey-rd-darien
DTSTART:20260428T221500Z
DTEND:20260428T231500Z
END:VEVENT
END:VCALENDAR
