BEGIN:VCALENDAR
VERSION:2.0
PRODID:SchoolNow
CALSCALE:GREGORIAN
BEGIN:VEVENT
UID:3403d87e-1619-11f0-bee8-0a58a9feac02
DTSTAMP:20251216T154634Z
SUMMARY:Boys Soccer vs Lisle HOME 909 Oakwood Drive Westmont
LOCATION:Westmont High School\, 909 Oakwood Dr\, Westmont\, IL 60559\, USA
URL;VALUE=URI:https://www.cusd201.org/wjhs/calendar/7895115/boys-soccer-vs-
 lisle-home-909-oakwood-drive-westmont
DTSTART:20260410T211500Z
DTEND:20260410T221500Z
END:VEVENT
END:VCALENDAR
