BEGIN:VCALENDAR
VERSION:2.0
PRODID:SchoolNow
CALSCALE:GREGORIAN
BEGIN:VEVENT
UID:f0c340c8-1ae0-11f0-b648-0affe2cf37b1
DTSTAMP:20251216T154634Z
SUMMARY:8th Grade Graduation Picture Day
URL;VALUE=URI:https://www.cusd201.org/wjhs/calendar/7939815/8th-grade-gradu
 ation-picture-day
DTSTART;VALUE=DATE:20260109
DTEND;VALUE=DATE:20260110
END:VEVENT
END:VCALENDAR
