BEGIN:VCALENDAR
VERSION:2.0
PRODID:SchoolNow
CALSCALE:GREGORIAN
BEGIN:VEVENT
UID:f0c3442e-1ae0-11f0-99b4-0affe2cf37b1
DTSTAMP:20251216T154634Z
SUMMARY:8th Grade Graduation Retake Picture Day
URL;VALUE=URI:https://www.cusd201.org/wjhs/calendar/7939816/8th-grade-gradu
 ation-retake-picture-day
DTSTART;VALUE=DATE:20260220
DTEND;VALUE=DATE:20260221
END:VEVENT
END:VCALENDAR
