BEGIN:VCALENDAR
VERSION:2.0
PRODID:SchoolNow
CALSCALE:GREGORIAN
BEGIN:VEVENT
UID:a4809e14-20a7-11f0-b0e4-0a58a9feac02
DTSTAMP:20251216T154634Z
SUMMARY:WJHS Musical
URL;VALUE=URI:https://www.cusd201.org/wjhs/calendar/7995576/wjhs-musical
DTSTART:20260418T190000Z
DTEND:20260418T203000Z
END:VEVENT
END:VCALENDAR
