BEGIN:VCALENDAR
VERSION:2.0
PRODID:SchoolNow
CALSCALE:GREGORIAN
BEGIN:VEVENT
UID:191edc10-2c68-11f0-bdca-02ae869dad57
DTSTAMP:20251216T154634Z
SUMMARY:No School - Martin Luther King Jr Day
URL;VALUE=URI:https://www.cusd201.org/wjhs/calendar/8094282/no-school-marti
 n-luther-king-jr-day
DTSTART;VALUE=DATE:20260119
DTEND;VALUE=DATE:20260120
END:VEVENT
END:VCALENDAR
