BEGIN:VCALENDAR
VERSION:2.0
PRODID:SchoolNow
CALSCALE:GREGORIAN
BEGIN:VEVENT
UID:191ee2c8-2c68-11f0-a5df-02ae869dad57
DTSTAMP:20251216T154634Z
SUMMARY:School Improvement Day
URL;VALUE=URI:https://www.cusd201.org/wjhs/calendar/8094289/school-improvem
 ent-day
DTSTART;VALUE=DATE:20260429
DTEND;VALUE=DATE:20260430
END:VEVENT
END:VCALENDAR
