BEGIN:VCALENDAR
VERSION:2.0
PRODID:SchoolNow
CALSCALE:GREGORIAN
BEGIN:VEVENT
UID:191ef042-2c68-11f0-a4d0-02ae869dad57
DTSTAMP:20251216T154635Z
SUMMARY:No School - Winter Break
URL;VALUE=URI:https://www.cusd201.org/wjhs/calendar/8094302/no-school-winte
 r-break
DTSTART;VALUE=DATE:20260101
DTEND;VALUE=DATE:20260102
END:VEVENT
END:VCALENDAR
