BEGIN:VCALENDAR
VERSION:2.0
PRODID:SchoolNow
CALSCALE:GREGORIAN
BEGIN:VEVENT
UID:191ef2ea-2c68-11f0-a9d9-02ae869dad57
DTSTAMP:20251216T154635Z
SUMMARY:WJHS Course Selection for 9th Grade
URL;VALUE=URI:https://www.cusd201.org/wjhs/calendar/8094305/wjhs-course-sel
 ection-for-9th-grade
DTSTART;VALUE=DATE:20260225
DTEND;VALUE=DATE:20260226
END:VEVENT
END:VCALENDAR
