BEGIN:VCALENDAR
VERSION:2.0
PRODID:SchoolNow
CALSCALE:GREGORIAN
BEGIN:VEVENT
UID:d0f32b4c-3cbd-11f0-b01b-0a58a9feac02
DTSTAMP:20251216T154634Z
SUMMARY:Wrestling AWAY vs Jefferson Middle School 255 W Vermont St\, Villa 
 Park\, IL
LOCATION:Jefferson Middle School\, 255 W Vermont St\, Villa Park\, IL 60181
 \, USA
URL;VALUE=URI:https://www.cusd201.org/wjhs/calendar/8222108/wrestling-away-
 vs-jefferson-middle-school-255-w-vermont-st-villa-park-il
DTSTART:20260122T221500Z
DTEND:20260123T001500Z
END:VEVENT
END:VCALENDAR
