BEGIN:VCALENDAR
VERSION:2.0
PRODID:SchoolNow
CALSCALE:GREGORIAN
BEGIN:VEVENT
UID:c4d583c4-3d89-11f0-baac-02e359f82bdb
DTSTAMP:20251216T154633Z
SUMMARY:Wrestling vs Glenside HOME
LOCATION:WJHS-1-Gym (500)
URL;VALUE=URI:https://www.cusd201.org/wjhs/calendar/8227457/wrestling-vs-gl
 enside-home
DTSTART:20260212T223000Z
DTEND:20260213T003000Z
END:VEVENT
END:VCALENDAR
