BEGIN:VCALENDAR
VERSION:2.0
PRODID:SchoolNow
CALSCALE:GREGORIAN
BEGIN:VEVENT
UID:9170b508-4185-11f0-879e-0a58a9feac02
DTSTAMP:20251216T154633Z
SUMMARY:No Student Attendance
URL;VALUE=URI:https://www.cusd201.org/wjhs/calendar/8254033/no-student-atte
 ndance
DTSTART;VALUE=DATE:20260226
DTEND;VALUE=DATE:20260227
END:VEVENT
END:VCALENDAR
