BEGIN:VCALENDAR
VERSION:2.0
PRODID:SchoolNow
CALSCALE:GREGORIAN
BEGIN:VEVENT
UID:9170b6fc-4185-11f0-8502-0a58a9feac02
DTSTAMP:20251216T154633Z
SUMMARY:6th Grade Outdoor Education Trip
URL;VALUE=URI:https://www.cusd201.org/wjhs/calendar/8254035/6th-grade-outdo
 or-education-trip
DTSTART;VALUE=DATE:20260304
DTEND;VALUE=DATE:20260307
END:VEVENT
END:VCALENDAR
