BEGIN:VCALENDAR
VERSION:2.0
PRODID:SchoolNow
CALSCALE:GREGORIAN
BEGIN:VEVENT
UID:9170bb98-4185-11f0-ba04-0a58a9feac02
DTSTAMP:20251216T154634Z
SUMMARY:PLC Dismissal
URL;VALUE=URI:https://www.cusd201.org/wjhs/calendar/8254040/plc-dismissal
DTSTART;VALUE=DATE:20260327
DTEND;VALUE=DATE:20260328
END:VEVENT
END:VCALENDAR
