BEGIN:VCALENDAR
VERSION:2.0
PRODID:SchoolNow
CALSCALE:GREGORIAN
BEGIN:VEVENT
UID:d927f240-5075-11f0-b056-02fe7bc50e81
DTSTAMP:20251216T154633Z
SUMMARY:Early Act Meeting (VD Card Making for Cordia Seniors)
URL;VALUE=URI:https://www.cusd201.org/wjhs/calendar/8345950/early-act-meeti
 ng-vd-card-making-for-cordia-seniors
DTSTART:20260112T212000Z
DTEND:20260112T222000Z
END:VEVENT
END:VCALENDAR
