BEGIN:VCALENDAR
VERSION:2.0
PRODID:SchoolNow
CALSCALE:GREGORIAN
BEGIN:VEVENT
UID:d927f420-5075-11f0-9286-02fe7bc50e81
DTSTAMP:20251216T154633Z
SUMMARY:Early Act Meeting (Valentine Card Making)
URL;VALUE=URI:https://www.cusd201.org/wjhs/calendar/8345952/early-act-meeti
 ng-valentine-card-making
DTSTART:20260122T212000Z
DTEND:20260122T222000Z
END:VEVENT
END:VCALENDAR
