BEGIN:VCALENDAR
VERSION:2.0
PRODID:SchoolNow
CALSCALE:GREGORIAN
BEGIN:VEVENT
UID:d927f510-5075-11f0-9ff1-02fe7bc50e81
DTSTAMP:20251216T154633Z
SUMMARY:Early Act Meeting (Valentine Card Making and Service Hr. Party)
URL;VALUE=URI:https://www.cusd201.org/wjhs/calendar/8345953/early-act-meeti
 ng-valentine-card-making-and-service-hr-party
DTSTART:20260123T212000Z
DTEND:20260123T222000Z
END:VEVENT
END:VCALENDAR
