BEGIN:VCALENDAR
VERSION:2.0
PRODID:SchoolNow
CALSCALE:GREGORIAN
BEGIN:VEVENT
UID:d927f5f6-5075-11f0-9f8b-02fe7bc50e81
DTSTAMP:20251216T154634Z
SUMMARY:Early Act Food Drive
URL;VALUE=URI:https://www.cusd201.org/wjhs/calendar/8345954/early-act-food-
 drive
DTSTART;VALUE=DATE:20260202
DTEND;VALUE=DATE:20260207
END:VEVENT
END:VCALENDAR
