BEGIN:VCALENDAR
VERSION:2.0
PRODID:SchoolNow
CALSCALE:GREGORIAN
BEGIN:VEVENT
UID:d927f6e6-5075-11f0-84f0-02fe7bc50e81
DTSTAMP:20251216T154634Z
SUMMARY:Early Act (Deliver VD Cards to Cordia Senior Center)
URL;VALUE=URI:https://www.cusd201.org/wjhs/calendar/8345955/early-act-deliv
 er-vd-cards-to-cordia-senior-center
DTSTART:20260209T211500Z
DTEND:20260209T221500Z
END:VEVENT
END:VCALENDAR
