BEGIN:VCALENDAR
VERSION:2.0
PRODID:SchoolNow
CALSCALE:GREGORIAN
BEGIN:VEVENT
UID:d927f7cc-5075-11f0-8beb-02fe7bc50e81
DTSTAMP:20251216T154634Z
SUMMARY:Early Act ALL MEMBERS Mtg.
URL;VALUE=URI:https://www.cusd201.org/wjhs/calendar/8345956/early-act-all-m
 embers-mtg
DTSTART:20260302T212000Z
DTEND:20260302T222000Z
END:VEVENT
END:VCALENDAR
