BEGIN:VCALENDAR
VERSION:2.0
PRODID:SchoolNow
CALSCALE:GREGORIAN
BEGIN:VEVENT
UID:d927f8bc-5075-11f0-af8e-02fe7bc50e81
DTSTAMP:20251216T154635Z
SUMMARY:Early Act Decorate Westmont Library
LOCATION:Westmont Public Library\, 428 N Cass Ave\, Westmont\, IL 60559\, U
 SA
URL;VALUE=URI:https://www.cusd201.org/wjhs/calendar/8345957/early-act-decor
 ate-westmont-library
DTSTART:20260307T160000Z
DTEND:20260307T180000Z
END:VEVENT
END:VCALENDAR
