BEGIN:VCALENDAR
VERSION:2.0
PRODID:SchoolNow
CALSCALE:GREGORIAN
BEGIN:VEVENT
UID:d927fa7e-5075-11f0-974e-02fe7bc50e81
DTSTAMP:20251216T154634Z
SUMMARY:Early Act Easter Card making party
URL;VALUE=URI:https://www.cusd201.org/wjhs/calendar/8345959/early-act-easte
 r-card-making-party
DTSTART:20260312T201500Z
DTEND:20260312T211500Z
END:VEVENT
END:VCALENDAR
