BEGIN:VCALENDAR
VERSION:2.0
PRODID:SchoolNow
CALSCALE:GREGORIAN
BEGIN:VEVENT
UID:d927fb64-5075-11f0-83ed-02fe7bc50e81
DTSTAMP:20251216T154633Z
SUMMARY:Early Act Knights of Columbus Fish Fry Helpers
URL;VALUE=URI:https://www.cusd201.org/wjhs/calendar/8345960/early-act-knigh
 ts-of-columbus-fish-fry-helpers
DTSTART;VALUE=DATE:20260320
DTEND;VALUE=DATE:20260321
END:VEVENT
END:VCALENDAR
