BEGIN:VCALENDAR
VERSION:2.0
PRODID:SchoolNow
CALSCALE:GREGORIAN
BEGIN:VEVENT
UID:d927fe02-5075-11f0-8745-02fe7bc50e81
DTSTAMP:20251216T154635Z
SUMMARY:Early Act Knights of Columbus Fish Fry Helpers
URL;VALUE=URI:https://www.cusd201.org/wjhs/calendar/8345963/early-act-knigh
 ts-of-columbus-fish-fry-helpers
DTSTART;VALUE=DATE:20260313
DTEND;VALUE=DATE:20260314
END:VEVENT
END:VCALENDAR
