BEGIN:VCALENDAR
VERSION:2.0
PRODID:SchoolNow
CALSCALE:GREGORIAN
BEGIN:VEVENT
UID:d927fee8-5075-11f0-a0b6-02fe7bc50e81
DTSTAMP:20251216T154634Z
SUMMARY:Early Act Knights of Columbus Fish Fry Helpers
URL;VALUE=URI:https://www.cusd201.org/wjhs/calendar/8345964/early-act-knigh
 ts-of-columbus-fish-fry-helpers
DTSTART;VALUE=DATE:20260306
DTEND;VALUE=DATE:20260307
END:VEVENT
END:VCALENDAR
