BEGIN:VCALENDAR
VERSION:2.0
PRODID:SchoolNow
CALSCALE:GREGORIAN
BEGIN:VEVENT
UID:d928026c-5075-11f0-889f-02fe7bc50e81
DTSTAMP:20251216T154634Z
SUMMARY:Early Act WII Bowling vs. Mayslake
URL;VALUE=URI:https://www.cusd201.org/wjhs/calendar/8345968/early-act-wii-b
 owling-vs-mayslake
DTSTART:20260414T202000Z
DTEND:20260414T212000Z
END:VEVENT
END:VCALENDAR
