BEGIN:VCALENDAR
VERSION:2.0
PRODID:SchoolNow
CALSCALE:GREGORIAN
BEGIN:VEVENT
UID:17ea2902-72eb-11f0-86c2-0a58a9feac02
DTSTAMP:20251216T154633Z
SUMMARY:Math Club
URL;VALUE=URI:https://www.cusd201.org/wjhs/calendar/8476915/math-club
DTSTART:20260115T134500Z
DTEND:20260115T141500Z
END:VEVENT
END:VCALENDAR
