BEGIN:VCALENDAR
VERSION:2.0
PRODID:SchoolNow
CALSCALE:GREGORIAN
BEGIN:VEVENT
UID:17ea29de-72eb-11f0-85fa-0a58a9feac02
DTSTAMP:20251216T154633Z
SUMMARY:Math Club
URL;VALUE=URI:https://www.cusd201.org/wjhs/calendar/8476916/math-club
DTSTART:20260122T134500Z
DTEND:20260122T141500Z
END:VEVENT
END:VCALENDAR
