BEGIN:VCALENDAR
VERSION:2.0
PRODID:SchoolNow
CALSCALE:GREGORIAN
BEGIN:VEVENT
UID:17ea2baa-72eb-11f0-95e9-0a58a9feac02
DTSTAMP:20251216T154635Z
SUMMARY:Math Club
URL;VALUE=URI:https://www.cusd201.org/wjhs/calendar/8476918/math-club
DTSTART:20260205T134500Z
DTEND:20260205T141500Z
END:VEVENT
END:VCALENDAR
